Package: SCFA Version: 1.20.0 Command: /Library/Frameworks/R.framework/Resources/bin/R CMD check --install=check:SCFA.install-out.txt --library=/Library/Frameworks/R.framework/Resources/library --no-vignettes --timings SCFA_1.20.0.tar.gz StartedAt: 2025-11-04 00:02:55 -0500 (Tue, 04 Nov 2025) EndedAt: 2025-11-04 00:07:51 -0500 (Tue, 04 Nov 2025) EllapsedTime: 295.4 seconds RetCode: 0 Status: OK CheckDir: SCFA.Rcheck Warnings: 0