Package: SCFA Version: 1.20.0 Command: /Library/Frameworks/R.framework/Resources/bin/R CMD build --keep-empty-dirs --no-resave-data SCFA StartedAt: 2025-11-03 18:38:20 -0500 (Mon, 03 Nov 2025) EndedAt: 2025-11-03 18:41:13 -0500 (Mon, 03 Nov 2025) EllapsedTime: 172.7 seconds RetCode: 0 Status: OK PackageFile: SCFA_1.20.0.tar.gz PackageFileSize: 1.24 MiB