Package: SCFA Version: 1.20.0 Command: rm -rf SCFA.buildbin-libdir && mkdir SCFA.buildbin-libdir && /Users/biocbuild/BBS/utils/build-universal.sh SCFA_1.20.0.tar.gz /Library/Frameworks/R.framework/Resources/bin/R SCFA.buildbin-libdir StartedAt: 2025-11-04 02:02:33 -0500 (Tue, 04 Nov 2025) EndedAt: 2025-11-04 02:02:52 -0500 (Tue, 04 Nov 2025) EllapsedTime: 18.5 seconds RetCode: 0 Status: OK PackageFile: SCFA_1.20.0.tgz PackageFileSize: 1.401 MiB