Package: SCFA Version: 1.19.0 Command: /Library/Frameworks/R.framework/Resources/bin/R CMD INSTALL SCFA StartedAt: 2025-10-08 15:10:26 -0400 (Wed, 08 Oct 2025) EndedAt: 2025-10-08 15:10:33 -0400 (Wed, 08 Oct 2025) EllapsedTime: 7.3 seconds RetCode: 0 Status: OK