Package: SCBN Version: 1.27.0 Command: /Library/Frameworks/R.framework/Resources/bin/R CMD build --keep-empty-dirs --no-resave-data SCBN StartedAt: 2025-10-19 19:14:01 -0400 (Sun, 19 Oct 2025) EndedAt: 2025-10-19 19:15:24 -0400 (Sun, 19 Oct 2025) EllapsedTime: 83.0 seconds RetCode: 0 Status: OK PackageFile: SCBN_1.27.0.tar.gz PackageFileSize: 516.3 KiB