Package: SCBN Version: 1.27.0 Command: /Library/Frameworks/R.framework/Resources/bin/R CMD INSTALL SCBN StartedAt: 2025-10-19 15:01:16 -0400 (Sun, 19 Oct 2025) EndedAt: 2025-10-19 15:01:20 -0400 (Sun, 19 Oct 2025) EllapsedTime: 4.1 seconds RetCode: 0 Status: OK