Package: SCBN Version: 1.27.0 Maintainer: Yan Zhou MaintainerEmail: 2160090406 at email.szu.edu.cn git_url: https://git.bioconductor.org/packages/SCBN git_branch: devel git_last_commit: 6176c22 git_last_commit_date: 2025-04-15 11:36:01 -0400 (Tue, 15 Apr 2025)