Package: SCAN.UPC Version: 2.51.0 Command: F:\biocbuild\bbs-3.22-bioc\R\bin\R.exe CMD check --no-multiarch --install=check:SCAN.UPC.install-out.txt --library=F:\biocbuild\bbs-3.22-bioc\R\library --no-vignettes --timings SCAN.UPC_2.51.0.tar.gz StartedAt: 2025-08-15 07:26:58 -0400 (Fri, 15 Aug 2025) EndedAt: 2025-08-15 07:31:21 -0400 (Fri, 15 Aug 2025) EllapsedTime: 263.6 seconds RetCode: 0 Status: OK CheckDir: SCAN.UPC.Rcheck Warnings: 0