Package: SBMLR Version: 2.5.0 Command: F:\biocbuild\bbs-3.22-bioc\R\bin\R.exe CMD INSTALL SBMLR StartedAt: 2025-08-14 15:17:54 -0400 (Thu, 14 Aug 2025) EndedAt: 2025-08-14 15:18:06 -0400 (Thu, 14 Aug 2025) EllapsedTime: 12.7 seconds RetCode: 0 Status: OK