Package: SBMLR Version: 2.5.0 Command: /home/biocbuild/bbs-3.22-bioc/R/bin/R CMD INSTALL SBMLR StartedAt: 2025-10-19 15:03:41 -0400 (Sun, 19 Oct 2025) EndedAt: 2025-10-19 15:03:54 -0400 (Sun, 19 Oct 2025) EllapsedTime: 13.3 seconds RetCode: 0 Status: OK