Package: SBMLR Version: 2.5.0 Command: rm -rf SBMLR.buildbin-libdir && mkdir SBMLR.buildbin-libdir && /Users/biocbuild/BBS/utils/build-universal.sh SBMLR_2.5.0.tar.gz /Library/Frameworks/R.framework/Resources/bin/R SBMLR.buildbin-libdir StartedAt: 2025-10-19 23:14:30 -0400 (Sun, 19 Oct 2025) EndedAt: 2025-10-19 23:14:32 -0400 (Sun, 19 Oct 2025) EllapsedTime: 2.0 seconds RetCode: 0 Status: OK PackageFile: SBMLR_2.5.0.tgz PackageFileSize: 314 KiB