Package: SARC Version: 1.7.1 Command: /home/biocbuild/R/R/bin/R CMD INSTALL SARC StartedAt: 2025-10-23 21:26:19 -0000 (Thu, 23 Oct 2025) EndedAt: 2025-10-23 21:27:12 -0000 (Thu, 23 Oct 2025) EllapsedTime: 52.7 seconds RetCode: 0 Status: OK