Package: SARC Version: 1.7.1 Command: /home/biocbuild/R/R/bin/R CMD check --install=check:SARC.install-out.txt --library=/home/biocbuild/R/R/site-library --no-vignettes --timings SARC_1.7.1.tar.gz StartedAt: 2025-10-17 13:09:46 -0000 (Fri, 17 Oct 2025) EndedAt: 2025-10-17 13:16:21 -0000 (Fri, 17 Oct 2025) EllapsedTime: 394.6 seconds RetCode: 1 Status: ERROR CheckDir: SARC.Rcheck Warnings: NA