Package: SARC Version: 1.7.1 Command: /home/biocbuild/R/R/bin/R CMD build --keep-empty-dirs --no-resave-data SARC StartedAt: 2025-10-21 02:45:49 -0000 (Tue, 21 Oct 2025) EndedAt: 2025-10-21 02:48:31 -0000 (Tue, 21 Oct 2025) EllapsedTime: 162.1 seconds RetCode: 0 Status: OK PackageFile: SARC_1.7.1.tar.gz PackageFileSize: 3.497 MiB