Package: SARC Version: 1.7.1 Command: F:\biocbuild\bbs-3.22-bioc\R\bin\R.exe CMD INSTALL SARC StartedAt: 2025-08-14 17:05:58 -0400 (Thu, 14 Aug 2025) EndedAt: 2025-08-14 17:06:58 -0400 (Thu, 14 Aug 2025) EllapsedTime: 60.0 seconds RetCode: 0 Status: OK