Package: SARC Version: 1.7.1 Command: F:\biocbuild\bbs-3.22-bioc\R\bin\R.exe CMD check --no-multiarch --install=check:SARC.install-out.txt --library=F:\biocbuild\bbs-3.22-bioc\R\library --no-vignettes --timings SARC_1.7.1.tar.gz StartedAt: 2025-08-15 07:25:28 -0400 (Fri, 15 Aug 2025) EndedAt: 2025-08-15 07:35:04 -0400 (Fri, 15 Aug 2025) EllapsedTime: 575.8 seconds RetCode: 0 Status: OK CheckDir: SARC.Rcheck Warnings: 0