Package: SARC Version: 1.7.1 Command: chmod a+r SARC -R && F:\biocbuild\bbs-3.22-bioc\R\bin\R.exe CMD build --keep-empty-dirs --no-resave-data SARC StartedAt: 2025-08-14 22:58:22 -0400 (Thu, 14 Aug 2025) EndedAt: 2025-08-14 23:01:32 -0400 (Thu, 14 Aug 2025) EllapsedTime: 189.2 seconds RetCode: 0 Status: OK PackageFile: SARC_1.7.1.tar.gz PackageFileSize: 3.426 MiB