Package: SARC Version: 1.7.1 Command: rm -rf SARC.buildbin-libdir && mkdir SARC.buildbin-libdir && F:\biocbuild\bbs-3.22-bioc\R\bin\R.exe CMD INSTALL --build --library=SARC.buildbin-libdir SARC_1.7.1.tar.gz StartedAt: 2025-08-15 11:13:11 -0400 (Fri, 15 Aug 2025) EndedAt: 2025-08-15 11:14:13 -0400 (Fri, 15 Aug 2025) EllapsedTime: 61.9 seconds RetCode: 0 Status: OK PackageFile: SARC_1.7.1.zip PackageFileSize: 2.029 MiB