Package: SANTA Version: 2.46.0 Command: /home/biocbuild/bbs-3.22-bioc/R/bin/R CMD INSTALL SANTA StartedAt: 2025-11-17 16:55:02 -0500 (Mon, 17 Nov 2025) EndedAt: 2025-11-17 16:55:08 -0500 (Mon, 17 Nov 2025) EllapsedTime: 6.3 seconds RetCode: 0 Status: OK