Package: SANTA Version: 2.46.0 Command: /Library/Frameworks/R.framework/Resources/bin/R CMD INSTALL SANTA StartedAt: 2025-11-17 16:56:17 -0500 (Mon, 17 Nov 2025) EndedAt: 2025-11-17 16:56:29 -0500 (Mon, 17 Nov 2025) EllapsedTime: 12.6 seconds RetCode: 0 Status: OK