Package: SANTA Version: 2.46.0 Command: /Library/Frameworks/R.framework/Resources/bin/R CMD build --keep-empty-dirs --no-resave-data SANTA StartedAt: 2025-11-18 01:49:21 -0500 (Tue, 18 Nov 2025) EndedAt: 2025-11-18 01:49:44 -0500 (Tue, 18 Nov 2025) EllapsedTime: 23.1 seconds RetCode: 0 Status: OK PackageFile: SANTA_2.46.0.tar.gz PackageFileSize: 4.372 MiB