Package: SANTA Version: 2.45.0 Command: /Library/Frameworks/R.framework/Resources/bin/R CMD build --keep-empty-dirs --no-resave-data SANTA StartedAt: 2025-09-21 18:27:18 -0400 (Sun, 21 Sep 2025) EndedAt: 2025-09-21 18:27:33 -0400 (Sun, 21 Sep 2025) EllapsedTime: 14.8 seconds RetCode: 0 Status: OK PackageFile: SANTA_2.45.0.tar.gz PackageFileSize: 4.372 MiB