Package: SANTA Version: 2.45.0 Command: /Library/Frameworks/R.framework/Resources/bin/R CMD INSTALL SANTA StartedAt: 2025-10-01 15:04:15 -0400 (Wed, 01 Oct 2025) EndedAt: 2025-10-01 15:04:18 -0400 (Wed, 01 Oct 2025) EllapsedTime: 3.1 seconds RetCode: 0 Status: OK