Package: SANTA Version: 2.45.0 Command: rm -rf SANTA.buildbin-libdir && mkdir SANTA.buildbin-libdir && /Users/biocbuild/BBS/utils/build-universal.sh SANTA_2.45.0.tar.gz /Library/Frameworks/R.framework/Resources/bin/R SANTA.buildbin-libdir StartedAt: 2025-10-01 23:01:45 -0400 (Wed, 01 Oct 2025) EndedAt: 2025-10-01 23:01:49 -0400 (Wed, 01 Oct 2025) EllapsedTime: 4.1 seconds RetCode: 0 Status: OK PackageFile: SANTA_2.45.0.tgz PackageFileSize: 4.135 MiB