Package: S4Arrays Version: 1.9.1 Command: chmod a+r S4Arrays -R && F:\biocbuild\bbs-3.22-bioc\R\bin\R.exe CMD build --keep-empty-dirs --no-resave-data S4Arrays StartedAt: 2025-08-14 22:57:10 -0400 (Thu, 14 Aug 2025) EndedAt: 2025-08-14 22:58:21 -0400 (Thu, 14 Aug 2025) EllapsedTime: 71.0 seconds RetCode: 0 Status: OK PackageFile: S4Arrays_1.9.1.tar.gz PackageFileSize: 287.6 KiB