Package: S4Arrays Version: 1.9.1 Command: /Library/Frameworks/R.framework/Resources/bin/R CMD check --install=check:S4Arrays.install-out.txt --library=/Library/Frameworks/R.framework/Resources/library --no-vignettes --timings S4Arrays_1.9.1.tar.gz StartedAt: 2025-10-20 01:21:14 -0400 (Mon, 20 Oct 2025) EndedAt: 2025-10-20 01:24:07 -0400 (Mon, 20 Oct 2025) EllapsedTime: 172.7 seconds RetCode: 0 Status: OK CheckDir: S4Arrays.Rcheck Warnings: 0