Package: S4Arrays Version: 1.9.1 Command: rm -rf S4Arrays.buildbin-libdir && mkdir S4Arrays.buildbin-libdir && /Users/biocbuild/BBS/utils/build-universal.sh S4Arrays_1.9.1.tar.gz /Library/Frameworks/R.framework/Resources/bin/R S4Arrays.buildbin-libdir StartedAt: 2025-10-20 03:30:47 -0400 (Mon, 20 Oct 2025) EndedAt: 2025-10-20 03:31:22 -0400 (Mon, 20 Oct 2025) EllapsedTime: 34.7 seconds RetCode: 0 Status: OK PackageFile: S4Arrays_1.9.1.tgz PackageFileSize: 1.158 MiB