Package: S4Arrays Version: 1.9.1 Command: /Library/Frameworks/R.framework/Resources/bin/R CMD INSTALL S4Arrays StartedAt: 2025-10-19 15:07:36 -0400 (Sun, 19 Oct 2025) EndedAt: 2025-10-19 15:07:42 -0400 (Sun, 19 Oct 2025) EllapsedTime: 6.5 seconds RetCode: 0 Status: OK