Package: S4Arrays Version: 1.9.1 Command: /Library/Frameworks/R.framework/Resources/bin/R CMD build --keep-empty-dirs --no-resave-data S4Arrays StartedAt: 2025-10-20 17:33:33 -0400 (Mon, 20 Oct 2025) EndedAt: 2025-10-20 17:33:42 -0400 (Mon, 20 Oct 2025) EllapsedTime: 9.1 seconds RetCode: 0 Status: OK PackageFile: S4Arrays_1.9.1.tar.gz PackageFileSize: 287.7 KiB