Package: Rtpca Version: 1.19.1 Command: /home/biocbuild/R/R/bin/R CMD INSTALL Rtpca StartedAt: 2025-10-16 21:24:18 -0000 (Thu, 16 Oct 2025) EndedAt: 2025-10-16 21:24:32 -0000 (Thu, 16 Oct 2025) EllapsedTime: 14.0 seconds RetCode: 0 Status: OK