Package: Rtpca Version: 1.19.1 Command: /home/biocbuild/R/R/bin/R CMD build --keep-empty-dirs --no-resave-data Rtpca StartedAt: 2025-10-21 02:42:11 -0000 (Tue, 21 Oct 2025) EndedAt: 2025-10-21 02:42:44 -0000 (Tue, 21 Oct 2025) EllapsedTime: 33.0 seconds RetCode: 0 Status: OK PackageFile: Rtpca_1.19.1.tar.gz PackageFileSize: 2.069 MiB