Package: Rtpca Version: 1.19.1 Command: /home/biocbuild/bbs-3.22-bioc/R/bin/R CMD INSTALL Rtpca StartedAt: 2025-10-03 15:11:59 -0400 (Fri, 03 Oct 2025) EndedAt: 2025-10-03 15:12:08 -0400 (Fri, 03 Oct 2025) EllapsedTime: 9.0 seconds RetCode: 0 Status: OK