Package: Rsubread Version: 2.23.8 Command: /home/biocbuild/R/R/bin/R CMD build --keep-empty-dirs --no-resave-data Rsubread StartedAt: 2025-10-17 04:09:46 -0000 (Fri, 17 Oct 2025) EndedAt: 2025-10-17 04:12:21 -0000 (Fri, 17 Oct 2025) EllapsedTime: 155.1 seconds RetCode: 0 Status: OK PackageFile: Rsubread_2.23.8.tar.gz PackageFileSize: 12.96 MiB