Package: Rsamtools Version: 2.25.3 Command: /home/biocbuild/R/R/bin/R CMD check --install=check:Rsamtools.install-out.txt --library=/home/biocbuild/R/R/site-library --no-vignettes --timings Rsamtools_2.25.3.tar.gz StartedAt: 2025-10-17 13:02:37 -0000 (Fri, 17 Oct 2025) EndedAt: 2025-10-17 13:05:48 -0000 (Fri, 17 Oct 2025) EllapsedTime: 191.3 seconds RetCode: 0 Status: WARNINGS CheckDir: Rsamtools.Rcheck Warnings: 2