Package: RolDE Version: 1.13.0 Command: rm -rf RolDE.buildbin-libdir && mkdir RolDE.buildbin-libdir && F:\biocbuild\bbs-3.22-bioc\R\bin\R.exe CMD INSTALL --build --library=RolDE.buildbin-libdir RolDE_1.13.0.tar.gz StartedAt: 2025-08-15 11:10:24 -0400 (Fri, 15 Aug 2025) EndedAt: 2025-08-15 11:10:52 -0400 (Fri, 15 Aug 2025) EllapsedTime: 28.1 seconds RetCode: 0 Status: OK PackageFile: RolDE_1.13.0.zip PackageFileSize: 1.36 MiB