Package: RolDE Version: 1.13.0 Command: /home/biocbuild/bbs-3.22-bioc/R/bin/R CMD check --install=check:RolDE.install-out.txt --library=/home/biocbuild/bbs-3.22-bioc/R/site-library --timings RolDE_1.13.0.tar.gz StartedAt: 2025-09-22 03:40:22 -0400 (Mon, 22 Sep 2025) EndedAt: 2025-09-22 03:44:48 -0400 (Mon, 22 Sep 2025) EllapsedTime: 265.2 seconds RetCode: 0 Status: OK CheckDir: RolDE.Rcheck Warnings: 0