Package: Rnits Version: 1.43.0 Command: /home/biocbuild/R/R/bin/R CMD build --keep-empty-dirs --no-resave-data Rnits StartedAt: 2025-10-21 02:36:04 -0000 (Tue, 21 Oct 2025) EndedAt: 2025-10-21 02:37:56 -0000 (Tue, 21 Oct 2025) EllapsedTime: 112.1 seconds RetCode: 0 Status: OK PackageFile: Rnits_1.43.0.tar.gz PackageFileSize: 641.4 KiB