Package: Rnits Version: 1.43.0 Command: F:\biocbuild\bbs-3.22-bioc\R\bin\R.exe CMD check --no-multiarch --install=check:Rnits.install-out.txt --library=F:\biocbuild\bbs-3.22-bioc\R\library --no-vignettes --timings Rnits_1.43.0.tar.gz StartedAt: 2025-08-15 07:13:21 -0400 (Fri, 15 Aug 2025) EndedAt: 2025-08-15 07:14:43 -0400 (Fri, 15 Aug 2025) EllapsedTime: 82.9 seconds RetCode: 0 Status: WARNINGS CheckDir: Rnits.Rcheck Warnings: 1