Package: Rnits Version: 1.43.0 Command: rm -rf Rnits.buildbin-libdir && mkdir Rnits.buildbin-libdir && F:\biocbuild\bbs-3.22-bioc\R\bin\R.exe CMD INSTALL --build --library=Rnits.buildbin-libdir Rnits_1.43.0.tar.gz StartedAt: 2025-08-15 11:10:10 -0400 (Fri, 15 Aug 2025) EndedAt: 2025-08-15 11:10:34 -0400 (Fri, 15 Aug 2025) EllapsedTime: 23.9 seconds RetCode: 0 Status: OK PackageFile: Rnits_1.43.0.zip PackageFileSize: 966.2 KiB