Package: Rnits Version: 1.43.0 Command: /Library/Frameworks/R.framework/Resources/bin/R CMD INSTALL Rnits StartedAt: 2025-10-21 15:17:07 -0400 (Tue, 21 Oct 2025) EndedAt: 2025-10-21 15:17:23 -0400 (Tue, 21 Oct 2025) EllapsedTime: 16.6 seconds RetCode: 0 Status: OK