Package: Rnits Version: 1.43.0 Command: /Library/Frameworks/R.framework/Resources/bin/R CMD build --keep-empty-dirs --no-resave-data Rnits StartedAt: 2025-10-21 19:17:53 -0400 (Tue, 21 Oct 2025) EndedAt: 2025-10-21 19:19:37 -0400 (Tue, 21 Oct 2025) EllapsedTime: 104.2 seconds RetCode: 0 Status: OK PackageFile: Rnits_1.43.0.tar.gz PackageFileSize: 653.8 KiB