Package: Rnits Version: 1.43.0 Command: /Library/Frameworks/R.framework/Resources/bin/R CMD INSTALL Rnits StartedAt: 2025-10-22 15:07:26 -0400 (Wed, 22 Oct 2025) EndedAt: 2025-10-22 15:07:30 -0400 (Wed, 22 Oct 2025) EllapsedTime: 3.7 seconds RetCode: 0 Status: OK