Package: Rnits Version: 1.43.0 Maintainer: Dipen P. Sangurdekar MaintainerEmail: dipen.sangurdekar at gmail.com git_url: https://git.bioconductor.org/packages/Rnits git_branch: devel git_last_commit: 8348cf2 git_last_commit_date: 2025-04-15 10:33:43 -0400 (Tue, 15 Apr 2025)