Package: RnBeads Version: 2.27.2 Command: rm -rf RnBeads.buildbin-libdir && mkdir RnBeads.buildbin-libdir && F:\biocbuild\bbs-3.22-bioc\R\bin\R.exe CMD INSTALL --build --library=RnBeads.buildbin-libdir RnBeads_2.27.2.tar.gz StartedAt: 2025-08-15 11:10:05 -0400 (Fri, 15 Aug 2025) EndedAt: 2025-08-15 11:15:04 -0400 (Fri, 15 Aug 2025) EllapsedTime: 298.7 seconds RetCode: 0 Status: OK PackageFile: RnBeads_2.27.2.zip PackageFileSize: 7.422 MiB