Package: Rmmquant Version: 1.28.0 Command: /home/biocbuild/R/R/bin/R CMD check --install=check:Rmmquant.install-out.txt --library=/home/biocbuild/R/R/site-library --no-vignettes --timings Rmmquant_1.28.0.tar.gz StartedAt: 2025-11-11 13:57:20 -0000 (Tue, 11 Nov 2025) EndedAt: 2025-11-11 14:04:04 -0000 (Tue, 11 Nov 2025) EllapsedTime: 403.8 seconds RetCode: 0 Status: OK CheckDir: Rmmquant.Rcheck Warnings: 0