Package: Rmmquant Version: 1.28.0 Command: /home/biocbuild/R/R/bin/R CMD build --keep-empty-dirs --no-resave-data Rmmquant StartedAt: 2025-11-11 04:35:28 -0000 (Tue, 11 Nov 2025) EndedAt: 2025-11-11 04:37:14 -0000 (Tue, 11 Nov 2025) EllapsedTime: 106.0 seconds RetCode: 0 Status: OK PackageFile: Rmmquant_1.28.0.tar.gz PackageFileSize: 45.74 KiB