Package: RiboDiPA Version: 1.17.1 Command: /home/biocbuild/bbs-3.22-bioc/R/bin/R CMD INSTALL RiboDiPA StartedAt: 2025-10-22 15:40:04 -0400 (Wed, 22 Oct 2025) EndedAt: 2025-10-22 15:40:56 -0400 (Wed, 22 Oct 2025) EllapsedTime: 52.1 seconds RetCode: 0 Status: OK