Package: RiboDiPA Version: 1.17.1 Command: /home/biocbuild/bbs-3.22-bioc/R/bin/R CMD check --install=check:RiboDiPA.install-out.txt --library=/home/biocbuild/bbs-3.22-bioc/R/site-library --timings RiboDiPA_1.17.1.tar.gz StartedAt: 2025-10-23 03:55:15 -0400 (Thu, 23 Oct 2025) EndedAt: 2025-10-23 04:12:52 -0400 (Thu, 23 Oct 2025) EllapsedTime: 1057.2 seconds RetCode: 0 Status: OK CheckDir: RiboDiPA.Rcheck Warnings: 0