Package: RiboDiPA Version: 1.17.1 Command: /home/biocbuild/bbs-3.22-bioc/R/bin/R CMD build --keep-empty-dirs --no-resave-data --md5 RiboDiPA StartedAt: 2025-10-22 19:40:10 -0400 (Wed, 22 Oct 2025) EndedAt: 2025-10-22 19:45:54 -0400 (Wed, 22 Oct 2025) EllapsedTime: 344.3 seconds RetCode: 0 Status: OK PackageFile: RiboDiPA_1.17.1.tar.gz PackageFileSize: 1.762 MiB