Package: RiboDiPA Version: 1.17.1 Command: /Library/Frameworks/R.framework/Resources/bin/R CMD INSTALL RiboDiPA StartedAt: 2025-10-19 15:38:07 -0400 (Sun, 19 Oct 2025) EndedAt: 2025-10-19 15:39:16 -0400 (Sun, 19 Oct 2025) EllapsedTime: 68.6 seconds RetCode: 0 Status: OK